BEGIN:VCALENDAR
VERSION:2.0
PRODID:-//AktivRegion Steinburg - ECPv6.15.20//NONSGML v1.0//EN
CALSCALE:GREGORIAN
METHOD:PUBLISH
X-WR-CALNAME:AktivRegion Steinburg
X-ORIGINAL-URL:https://www.leader-steinburg.de
X-WR-CALDESC:Veranstaltungen für AktivRegion Steinburg
REFRESH-INTERVAL;VALUE=DURATION:PT1H
X-Robots-Tag:noindex
X-PUBLISHED-TTL:PT1H
BEGIN:VTIMEZONE
TZID:Europe/Berlin
BEGIN:DAYLIGHT
TZOFFSETFROM:+0100
TZOFFSETTO:+0200
TZNAME:CEST
DTSTART:20240331T010000
END:DAYLIGHT
BEGIN:STANDARD
TZOFFSETFROM:+0200
TZOFFSETTO:+0100
TZNAME:CET
DTSTART:20241027T010000
END:STANDARD
BEGIN:DAYLIGHT
TZOFFSETFROM:+0100
TZOFFSETTO:+0200
TZNAME:CEST
DTSTART:20250330T010000
END:DAYLIGHT
BEGIN:STANDARD
TZOFFSETFROM:+0200
TZOFFSETTO:+0100
TZNAME:CET
DTSTART:20251026T010000
END:STANDARD
BEGIN:DAYLIGHT
TZOFFSETFROM:+0100
TZOFFSETTO:+0200
TZNAME:CEST
DTSTART:20260329T010000
END:DAYLIGHT
BEGIN:STANDARD
TZOFFSETFROM:+0200
TZOFFSETTO:+0100
TZNAME:CET
DTSTART:20261025T010000
END:STANDARD
END:VTIMEZONE
BEGIN:VEVENT
DTSTART;TZID=Europe/Berlin:20251204T170000
DTEND;TZID=Europe/Berlin:20251204T183000
DTSTAMP:20260421T104443
CREATED:20251113T064756Z
LAST-MODIFIED:20251113T064832Z
UID:2090-1764867600-1764873000@www.leader-steinburg.de
SUMMARY:10. Vorstandssitzung der AktivRegion Steinburg
DESCRIPTION:Sehr geehrte Damen und Herren\,\nzur nächsten Vorstandssitzung am 04. Dezember 2025 sind Sie herzlich eingeladen.\nFolgende Tagesordnungspunkte sind vorgesehen: \n1. Feststellung der Beschlussfähigkeit\n2. Tagesordnung und Protokoll der letzten Vorstandssitzung\n3. Aufnahme neuer Mitglieder\n4. Bericht des Vorsitzenden und der Geschäftsstelle\n5. Projektbeschlüsse\n6. Projektanfragen\n7. Sonstiges \nBitte teilen Sie uns bis zum 27. November 2025 telefonisch\, per Mail oder Fax mit\, ob Sie an der\nSitzung teilnehmen können. \nMit freundlichen Grüßen\nClaudia Buschmann\nVorstandsvorsitzende der LAG Steinburg \n251204 Einladung+Faxantwort Vorstandssitzung
URL:https://www.leader-steinburg.de/veranstaltung/10-vorstandssitzung-der-aktivregion-steinburg/
LOCATION:egw:wirtschaftsförderung\, Viktoriastraße 17\, Itzehoe\, 25524
END:VEVENT
END:VCALENDAR